Workbook

Sheet Memoria Virtual
D2: MEMORIA VIRTUAL -PAGINACIÒN -Tabla de Pàginas y MMU
D4: 3bits | E4: 12 bits
D5: Nº Marco | E5: Desplazamiento | H5: Direccion Fisica de 15 bits
D6: 110 | E6: 000000000100 | M6: MEMORIA EXTERNA
D8: Nº Pagina | E8: Nº Marco | F8: Bit de Presencia/ Ausencia | G8: Marco en RAM | L8: Espacio de direcciones virtuales
D9: 15 | E9: 000 | F9: 0 | G9: =Hoja1!F9 -> 0 | M9: Pag 15 | N9: X | O9: 60K - 64K
D10: 14 | E10: 000 | F10: 0 | G10: =Hoja1!F10 -> 0 | M10: Pag 14 | N10: X | O10: 56K - 60K
D11: 13 | E11: 000 | F11: 0 | G11: =Hoja1!F11 -> 0 | M11: Pag 13 | N11: X | O11: 52K - 56K
D12: 12 | E12: 000 | F12: 0 | G12: =Hoja1!F12 -> 0 | M12: Pag 12 | N12: X | O12: 48K - 52K
D13: 11 | E13: 111 | F13: 1 | G13: =Hoja1!F13 -> 7 | M13: Pag 11 | N13: M7 | O13: 44K - 48K
D14: 10 | E14: 000 | F14: 0 | G14: =Hoja1!F14 -> 0 | H14: Memoria RAM | M14: Pag 10 | N14: X | O14: 40K - 44K
D15: 9 | E15: 101 | F15: 1 | G15: =Hoja1!F15 -> 5 | H15: Espacio de direcciones Fìsicas | M15: Pag 9 | N15: M5 | O15: 36K - 40K
D16: 8 | E16: 000 | F16: 0 | G16: =Hoja1!F16 -> 0 | M16: Pag 8 | N16: X | O16: 32K - 36K
D17: 7 | E17: 000 | F17: 0 | G17: =Hoja1!F17 -> 0 | H17: M7 | I17: pag 11 | J17: 28K - 32K | M17: Pag 7 | N17: X | O17: 28K - 32K
D18: 6 | E18: 000 | F18: 0 | G18: =Hoja1!F18 -> 0 | H18: M6 | I18: pag 2 | J18: 24K - 28K | M18: Pag 6 | N18: X | O18: 24K - 28K
D19: 5 | E19: 011 | F19: 1 | G19: =Hoja1!F19 -> 3 | H19: M5 | I19: pag9 | J19: 20K - 24K | M19: Pag 5 | N19: M3 | O19: 20K - 24K
D20: 4 | E20: 100 | F20: 1 | G20: =Hoja1!F20 -> 4 | H20: M4 | I20: pag 4 | J20: 16K - 20K | M20: Pag 4 | N20: M4 | O20: 16K - 20K
D21: 3 | E21: 000 | F21: 1 | G21: =Hoja1!F21 -> 0 | H21: M3 | I21: pag 5 | J21: 12K - 16K | M21: Pag 3 | N21: M0 | O21: 12K - 16K
D22: 2 | E22: 110 | F22: 1 | G22: =Hoja1!F22 -> 6 | H22: M2 | I22: pag 0 | J22: 8K - 12K | M22: Pag 2 | N22: M6 | O22: 8K - 12K
D23: 1 | E23: 001 | F23: 1 | G23: =Hoja1!F23 -> 1 | H23: M1 | I23: pag 1 | J23: 4K - 8K | M23: Pag 1 | N23: M1 | O23: 4K - 8K
D24: 0 | E24: 010 | F24: 1 | G24: =Hoja1!F24 -> 2 | H24: M0 | I24: pag 3 | J24: 0K - 4K | M24: Pag 0 | N24: M2 | O24: 0K - 4K
D25: 4 bits | E25: 12 bits
D26: Nº Pagina | E26: Desplazamiento | M26: Direccion virtual de 16 bits
D27: 0010 | E27: 000000000100

Sheet Hoja1
B4: 0 | C4: 0 | D4: 1 | E4: 0 | F4: Decimal
B5: 8 | C5: 4 | D5: 2 | E5: 1 | F5: =B4*$B$5+C4*$C$5+D4*$D$5+E4*E5 -> 2
A8: Nº Marco | C8: 4 | D8: 2 | E8: 1
A9: 000 | C9: 0 | D9: 0 | E9: 0 | F9: =C9*$C$8+D9*$D$8+E9*$E$8 -> 0
A10: 000 | C10: 0 | D10: 0 | E10: 0 | F10: =C10*$C$8+D10*$D$8+E10*$E$8 -> 0
A11: 000 | C11: 0 | D11: 0 | E11: 0 | F11: =C11*$C$8+D11*$D$8+E11*$E$8 -> 0
A12: 000 | C12: 0 | D12: 0 | E12: 0 | F12: =C12*$C$8+D12*$D$8+E12*$E$8 -> 0
A13: 111 | C13: 1 | D13: 1 | E13: 1 | F13: =C13*$C$8+D13*$D$8+E13*$E$8 -> 7
A14: 000 | C14: 0 | D14: 0 | E14: 0 | F14: =C14*$C$8+D14*$D$8+E14*$E$8 -> 0
A15: 101 | C15: 1 | D15: 0 | E15: 1 | F15: =C15*$C$8+D15*$D$8+E15*$E$8 -> 5
A16: 000 | C16: 0 | D16: 0 | E16: 0 | F16: =C16*$C$8+D16*$D$8+E16*$E$8 -> 0
A17: 000 | C17: 0 | D17: 0 | E17: 0 | F17: =C17*$C$8+D17*$D$8+E17*$E$8 -> 0
A18: 000 | C18: 0 | D18: 0 | E18: 0 | F18: =C18*$C$8+D18*$D$8+E18*$E$8 -> 0
A19: 011 | C19: 0 | D19: 1 | E19: 1 | F19: =C19*$C$8+D19*$D$8+E19*$E$8 -> 3
A20: 100 | C20: 1 | D20: 0 | E20: 0 | F20: =C20*$C$8+D20*$D$8+E20*$E$8 -> 4
... A24: 010 | C24: 0 | D24: 1 | E24: 0 | F24: =C24*$C$8+D24*$D$8+E24*$E$8 -> 2

Sheet REEMPLAZO DE PÁGINAS FIFO- LRU
B2: Una computadora tiene 16 páginas de espacio de direcciones virtual pero sólo cuatro marcos de página. Inicialmente, la memoria está vacía. Un programa hace referencia a las páginas virtuales en el orden 0,7,2,7,5,8,9,2,4. ¿Cuáles referencias causan un fallo de página con LRU? ¿Cuáles referencias causan un fallo de página con FIFO?
B5: Memoria Secundaria | D5: LRU
B6: Memoria Virtual | D6: Memoria Principal | E6: 0 | F6: 7 | G6: 2 | H6: 7 | I6: 5 | J6: 8 | K6: 9 | L6: 2 | M6: 4
B7: Página 0 | D7: Marco 0 | E7: 0 | F7: 0 | G7: 0 | H7: 0 | I7: 0 | J7: 8 | K7: 5 | L7: 5 | M7: 5
B8: Página 1 | D8: Marco 1 | F8: 7 | G8: 7 | H8: 7 | I8: 7 | J8: 7 | K8: 7 | L8: 2 | M8: 2
B9: Página 2 | D9: Marco 2 | G9: 2 | H9: 2 | I9: 2 | J9: 2 | K9: 9 | L9: 9 | M9: 9
B10: Página 3 | D10: Marco 3 | I10: 5 | J10: 5 | K10: 5 | L10: 5 | M10: 4
B11: Página 4 | D11: FALLO/ACIERTO | E11: F | F11: F | G11: F | H11: A | I11: F | J11: F | K11: F | L11: F | M11: F
B12: Página 5
B13: Página 6
B14: Página 7 | D14: FIFO
B15: Página 8 | D15: Memoria Principal | E15: 0 | F15: 7 | G15: 2 | H15: 7 | I15: 5 | J15: 8 | K15: 9 | L15: 2 | M15: 4
B16: Página 9 | D16: Marco 0 | E16: 0 | F16: 0 | G16: 0 | H16: 0 | I16: 0 | J16: 8 | K16: 8 | L16: 8 | M16: 8
B17: Página 10 | D17: Marco 1 | F17: 7 | G17: 7 | H17: 7 | I17: 7 | J17: 7 | K17: 9 | L17: 9 | M17: 9
B18: Página 11 | D18: Marco 2 | G18: 2 | H18: 2 | I18: 2 | J18: 2 | K18: 2 | L18: 2 | M18: 4
B19: Página 12 | D19: Marco 3 | I19: 5 | J19: 5 | K19: 5 | L19: 5 | M19: 5
B20: Página 13 | D20: FALLO/ACIERTO | E20: F | F20: F | G20: F | H20: A | I20: F | J20: F | K20: F | L20: A | M20: F
B21: Página 14
B22: Página 15
